BEGIN:VCALENDAR
VERSION:2.0
PRODID:-//wp-events-plugin.com//7.2.3.1//EN
TZID:America/Chicago
X-WR-TIMEZONE:America/Chicago
BEGIN:VEVENT
UID:0-26@towing.witruck.org
DTSTART;TZID=America/Chicago:20260423T100000
DTEND;TZID=America/Chicago:20260423T150000
DTSTAMP:20260303T203538Z
URL:https://towing.witruck.org/events/wta-motor-carriers-seminar/
SUMMARY:WTA-Motor Carriers Seminar: Drug and Alcohol Compliance
DESCRIPTION:\n\nDrug and alcohol compliance remains a critical responsibili
 ty for motor carriers\, with increased enforcement focus on proper reasona
 ble suspicion determinations and accurate Clearinghouse reporting. This se
 ssion will examine employer obligations under FMCSA drug and alcohol regul
 ations\, including supervisor training requirements\, documentation standa
 rds\, and the steps required when reasonable suspicion arises.\n\nSpeaker 
 Dave Zander will provide practical guidance on navigating the FMCSA Drug &
 amp\; Alcohol Clearinghouse\, covering pre-employment queries\, annual che
 cks\, reporting requirements\, and common compliance pitfalls. The discuss
 ion will also address how Clearinghouse violations impact hiring decisions
 \, return-to-duty processes\, and ongoing compliance.\n\nAttendees will le
 ave with a clearer understanding of regulatory expectations and actionable
  strategies to strengthen compliance programs\, reduce risk\, and protect 
 their organizations from costly violations.\nCLICK HERE TO LEARN MORE AND 
 REGISTER
LOCATION:Fox Valley Technical College\, 825 N. Bluemound Drive\,  Appleton\
 , WI\, United States
X-APPLE-STRUCTURED-LOCATION;VALUE=URI;X-ADDRESS=825 N. Bluemound Drive\,  A
 ppleton\, WI\, United States;X-APPLE-RADIUS=100;X-TITLE=Fox Valley Technic
 al College:geo:0,0
END:VEVENT
BEGIN:VTIMEZONE
TZID:America/Chicago
X-LIC-LOCATION:America/Chicago
BEGIN:DAYLIGHT
DTSTART:20260308T030000
TZOFFSETFROM:-0600
TZOFFSETTO:-0500
TZNAME:CDT
END:DAYLIGHT
END:VTIMEZONE
END:VCALENDAR