BEGIN:VCALENDAR
VERSION:2.0
PRODID:-//wp-events-plugin.com//7.2.3.1//EN
TZID:America/Chicago
X-WR-TIMEZONE:America/Chicago
BEGIN:VEVENT
UID:0-28@towing.witruck.org
DTSTART;TZID=America/Chicago:20260514T100000
DTEND;TZID=America/Chicago:20260514T153000
DTSTAMP:20260303T204211Z
URL:https://towing.witruck.org/events/wta-motor-carriers-seminar-vehicle-m
 aintenance-2/
SUMMARY:WTA-Motor Carriers Seminar: Vehicle Maintenance
DESCRIPTION:\n\nThis seminar will help keep you in compliance with the Fede
 ral Motor Carrier Safety Administration (FMCSA) maintenance\, inspection\,
  and repair regulations\, and the Commercial Vehicle Safety Alliance (CVSA
 ) out-of-service criteria.\n\nThe Seminar will include:\n\n 	Review of Par
 t 393\, Parts and accessories necessary for safe operations\n 	Review of P
 art 396\, Inspection\, repair\, and maintenance\n 	Driver inspection and D
 VIR requirements\n 	Qualification of maintenance personnel\n 	Review of CV
 SA out-of-service criteria\n 	CSA Basic Scores and the ISS\n 	FMCSA audit 
 procedures related to maintenance\n 	Best practices designed to assist in 
 compliance with the regulations\n\nCLICK HERE TO LEARN MORE AND REGISTER
LOCATION:Fox Valley Technical College\, 825 N. Bluemound Drive\,  Appleton\
 , WI\, United States
X-APPLE-STRUCTURED-LOCATION;VALUE=URI;X-ADDRESS=825 N. Bluemound Drive\,  A
 ppleton\, WI\, United States;X-APPLE-RADIUS=100;X-TITLE=Fox Valley Technic
 al College:geo:0,0
END:VEVENT
BEGIN:VTIMEZONE
TZID:America/Chicago
X-LIC-LOCATION:America/Chicago
BEGIN:DAYLIGHT
DTSTART:20260308T030000
TZOFFSETFROM:-0600
TZOFFSETTO:-0500
TZNAME:CDT
END:DAYLIGHT
END:VTIMEZONE
END:VCALENDAR