BEGIN:VCALENDAR
VERSION:2.0
PRODID:-//wp-events-plugin.com//7.2.3.1//EN
TZID:America/Chicago
X-WR-TIMEZONE:America/Chicago
BEGIN:VEVENT
UID:0-25@towing.witruck.org
DTSTART;TZID=America/Chicago:20260319T100000
DTEND;TZID=America/Chicago:20260319T160000
DTSTAMP:20260303T203459Z
URL:https://towing.witruck.org/events/wta-motor-carriers-seminar-regulator
 y-climate-check/
SUMMARY:WTA-Motor Carriers Seminar: Regulatory Climate Check
DESCRIPTION:\n\n\nIn an increasingly dynamic political and regulatory envir
 onment\, motor carriers are facing heightened scrutiny\, evolving complian
 ce requirements\, and continued volatility in the insurance market. This s
 ession will examine how current political trends are influencing regulator
 y policy\, enforcement priorities\, and insurance availability and pricing
  across the transportation industry.\n\nIndustry experts will provide prac
 tical insights into what these shifts mean for carriers today\, including 
 emerging risks\, regulatory expectations\, and strategies for navigating i
 nsurance challenges in a changing climate. A third speaker (TBD) will roun
 d out the discussion with additional perspective on how carriers can proac
 tively manage exposure\, remain compliant\, and position themselves for st
 ability amid ongoing uncertainty.\n\nAttendees will leave with a clearer u
 nderstanding of the forces shaping the industry and actionable takeaways t
 o help their organizations adapt and plan ahead.\n\n&nbsp\;\nCLICK HERE TO
  LEARN MORE AND REGISTER
LOCATION:Acrisure De-Risking Center\, 16805 W. Cleveland Ave.\,  New Berlin
 \, WI\, United States
X-APPLE-STRUCTURED-LOCATION;VALUE=URI;X-ADDRESS=16805 W. Cleveland Ave.\,  
 New Berlin\, WI\, United States;X-APPLE-RADIUS=100;X-TITLE=Acrisure De-Ris
 king Center:geo:0,0
END:VEVENT
BEGIN:VTIMEZONE
TZID:America/Chicago
X-LIC-LOCATION:America/Chicago
BEGIN:DAYLIGHT
DTSTART:20260308T030000
TZOFFSETFROM:-0600
TZOFFSETTO:-0500
TZNAME:CDT
END:DAYLIGHT
END:VTIMEZONE
END:VCALENDAR