BEGIN:VCALENDAR
VERSION:2.0
PRODID:-//wp-events-plugin.com//7.2.3.1//EN
TZID:America/Chicago
X-WR-TIMEZONE:America/Chicago
BEGIN:VEVENT
UID:0-22@towing.witruck.org
DTSTART;TZID=America/Chicago:20260328T120000
DTEND;TZID=America/Chicago:20260328T150000
DTSTAMP:20260328T190706Z
URL:https://towing.witruck.org/events/wta-board-meeting-3/
SUMMARY:WTA Board Meeting
DESCRIPTION:[gravityform id="23" title="true" description="true"]\n\n&nbsp\
 ;\n\nMEETING DOCS\n\n&nbsp\;\n\n&nbsp\;
LOCATION:Potawatomi Casino Hotel\, 1721 W Canal St\, Milwaukee\, Wisconsin\
 , United States
X-APPLE-STRUCTURED-LOCATION;VALUE=URI;X-ADDRESS=1721 W Canal St\, Milwaukee
 \, Wisconsin\, United States;X-APPLE-RADIUS=100;X-TITLE=Potawatomi Casino 
 Hotel:geo:0,0
END:VEVENT
BEGIN:VTIMEZONE
TZID:America/Chicago
X-LIC-LOCATION:America/Chicago
BEGIN:DAYLIGHT
DTSTART:20260308T030000
TZOFFSETFROM:-0600
TZOFFSETTO:-0500
TZNAME:CDT
END:DAYLIGHT
END:VTIMEZONE
END:VCALENDAR