BEGIN:VCALENDAR
VERSION:2.0
PRODID:-//wp-events-plugin.com//7.2.3.1//EN
TZID:America/Chicago
X-WR-TIMEZONE:America/Chicago
BEGIN:VEVENT
UID:0-24@towing.witruck.org
DTSTART;TZID=America/Chicago:20260619T160000
DTEND;TZID=America/Chicago:20260621T120000
DTSTAMP:20260122T151345Z
URL:https://towing.witruck.org/events/wisconsin-tow-show-3/
SUMMARY:Wisconsin Tow Show
DESCRIPTION:MORE INFORMATION COMING IN MARCH
LOCATION:Chula Vista Hotel\, 1000 Chula Vista Parkway\, Wisconsin Dells\, W
 I\, 53965\, United States
X-APPLE-STRUCTURED-LOCATION;VALUE=URI;X-ADDRESS=1000 Chula Vista Parkway\, 
 Wisconsin Dells\, WI\, 53965\, United States;X-APPLE-RADIUS=100;X-TITLE=Ch
 ula Vista Hotel:geo:0,0
END:VEVENT
BEGIN:VTIMEZONE
TZID:America/Chicago
X-LIC-LOCATION:America/Chicago
BEGIN:DAYLIGHT
DTSTART:20260308T030000
TZOFFSETFROM:-0600
TZOFFSETTO:-0500
TZNAME:CDT
END:DAYLIGHT
END:VTIMEZONE
END:VCALENDAR